BEGIN:VCALENDAR
VERSION:2.0
PRODID:-//Franziska Fait - ECPv6.15.14//NONSGML v1.0//EN
CALSCALE:GREGORIAN
METHOD:PUBLISH
X-WR-CALNAME:Franziska Fait
X-ORIGINAL-URL:https://franziska-fait.com
X-WR-CALDESC:Veranstaltungen für Franziska Fait
REFRESH-INTERVAL;VALUE=DURATION:PT1H
X-Robots-Tag:noindex
X-PUBLISHED-TTL:PT1H
BEGIN:VTIMEZONE
TZID:UTC
BEGIN:STANDARD
TZOFFSETFROM:+0000
TZOFFSETTO:+0000
TZNAME:UTC
DTSTART:20240101T000000
END:STANDARD
END:VTIMEZONE
BEGIN:VEVENT
DTSTART;TZID=UTC:20250930T200000
DTEND;TZID=UTC:20250930T223000
DTSTAMP:20260422T092505
CREATED:20250921T142605Z
LAST-MODIFIED:20250921T142605Z
UID:990-1759262400-1759271400@franziska-fait.com
SUMMARY:Carmen
DESCRIPTION:Rolle: Frasquita
URL:https://franziska-fait.com/kalender/carmen
LOCATION:Theater Pforzheim
END:VEVENT
END:VCALENDAR