BEGIN:VCALENDAR
VERSION:2.0
PRODID:-//Franziska Fait - ECPv6.15.14//NONSGML v1.0//EN
CALSCALE:GREGORIAN
METHOD:PUBLISH
X-ORIGINAL-URL:https://franziska-fait.com
X-WR-CALDESC:Veranstaltungen für Franziska Fait
REFRESH-INTERVAL;VALUE=DURATION:PT1H
X-Robots-Tag:noindex
X-PUBLISHED-TTL:PT1H
BEGIN:VTIMEZONE
TZID:UTC
BEGIN:STANDARD
TZOFFSETFROM:+0000
TZOFFSETTO:+0000
TZNAME:UTC
DTSTART:20240101T000000
END:STANDARD
END:VTIMEZONE
BEGIN:VEVENT
DTSTART;TZID=UTC:20251011T193000
DTEND;TZID=UTC:20251011T220000
DTSTAMP:20260420T105621
CREATED:20250921T142701Z
LAST-MODIFIED:20250921T142701Z
UID:992-1760211000-1760220000@franziska-fait.com
SUMMARY:Carmen
DESCRIPTION:Rolle. Frasquita
URL:https://franziska-fait.com/kalender/carmen-2
LOCATION:Theater Pforzheim
END:VEVENT
END:VCALENDAR