BEGIN:VCALENDAR
VERSION:2.0
PRODID:-//Franziska Fait - ECPv6.15.14//NONSGML v1.0//EN
CALSCALE:GREGORIAN
METHOD:PUBLISH
X-ORIGINAL-URL:https://franziska-fait.com
X-WR-CALDESC:Veranstaltungen für Franziska Fait
REFRESH-INTERVAL;VALUE=DURATION:PT1H
X-Robots-Tag:noindex
X-PUBLISHED-TTL:PT1H
BEGIN:VTIMEZONE
TZID:UTC
BEGIN:STANDARD
TZOFFSETFROM:+0000
TZOFFSETTO:+0000
TZNAME:UTC
DTSTART:20250101T000000
END:STANDARD
END:VTIMEZONE
BEGIN:VEVENT
DTSTART;TZID=UTC:20260214T193000
DTEND;TZID=UTC:20260214T210000
DTSTAMP:20260420T095921
CREATED:20251004T152908Z
LAST-MODIFIED:20251004T152908Z
UID:1023-1771097400-1771102800@franziska-fait.com
SUMMARY:Der Opernball
DESCRIPTION:Rolle: Hortense
URL:https://franziska-fait.com/kalender/der-opernball-9
LOCATION:Theater Pforzheim
END:VEVENT
END:VCALENDAR